BEGIN:VCALENDAR
VERSION:2.0
PRODID:-//Jamstem Educational Foundation - ECPv6.11.2//NONSGML v1.0//EN
CALSCALE:GREGORIAN
METHOD:PUBLISH
X-ORIGINAL-URL:https://jamstem.com
X-WR-CALDESC:Events for Jamstem Educational Foundation
REFRESH-INTERVAL;VALUE=DURATION:PT1H
X-Robots-Tag:noindex
X-PUBLISHED-TTL:PT1H
BEGIN:VTIMEZONE
TZID:UTC
BEGIN:STANDARD
TZOFFSETFROM:+0000
TZOFFSETTO:+0000
TZNAME:UTC
DTSTART:20240101T000000
END:STANDARD
END:VTIMEZONE
BEGIN:VEVENT
DTSTART;TZID=UTC:20240905T080000
DTEND;TZID=UTC:20250914T170000
DTSTAMP:20260425T104641
CREATED:20230522T173220Z
LAST-MODIFIED:20240709T183731Z
UID:1069-1725523200-1757869200@jamstem.com
SUMMARY:Event of Shares
DESCRIPTION:The event of shares in charity is a unique and impactful way to raise funds and engage the community. By offering shares in a charitable organization\, individuals can become stakeholders in the mission and contribute to its success. This innovative approach allows supporters to not only donate money but also become invested in the long-term sustainability of the charity. Shareholders can attend annual meetings\, vote on important decisions\, and even receive dividends based on the organization’s financial performance. This event not only generates funds but also fosters a sense of ownership and commitment among supporters\, creating a stronger and more sustainable bond between the charity and its community.
URL:https://jamstem.com/event/event-of-shares/
LOCATION:Ghana\, Ghana
CATEGORIES:Events
ATTACH;FMTTYPE=image/jpeg:https://jamstem.com/wp-content/uploads/2023/05/recent-event-1-1.jpg
END:VEVENT
BEGIN:VEVENT
DTSTART;TZID=UTC:20260830T110000
DTEND;TZID=UTC:20260830T153000
DTSTAMP:20260425T104641
CREATED:20230719T074149Z
LAST-MODIFIED:20240509T132954Z
UID:1548-1788087600-1788103800@jamstem.com
SUMMARY:We Want To Help
DESCRIPTION:Dicta sunt explicabo. Nemo enim ipsam voluptatem quia voluptas sit aspernaturaut odit aut fugit\, sed quia consequuntur. Enim at duis turpis arcu. Odio amet quam quis eget molestie at et nam mauris. Vestibulum velit ut aliquam sociis nullam. Volutpat et ullamcorper proin scelerisque vitae. Elementum molestie nibh sed magna diam feugiat sagittis egestas. Ut nunc a penatibus amet imperdiet sit sagittis in et. Sagittis nulla mi consectetur nunc porta a diam laoreet amet. Sed massa orci sed ante pellentesque faucibus ac nulla. Lectus ullamcorper cursus pulvinar tortor. Scelerisque sed eget amet gravida lacus aliquet sed ipsum facilisis. Libero consequat eget sed tristique arcu metus duis duis. Tortor est varius egestas odio auctor dui sed. Netus non risus sollicitudin id. \nDetails about the Event\nOdio amet quam quis eget molestie at et nam mauris. Vestibulum velit ut aliquam sociis nullam. Volutpat et ullamcorper proin scelerisque vitae. Elementum molestie nibh sed magna diam feugiat sagittis egestas. Ut nunc a penatibus amet imperdiet sit sagittis in et. Sagittis nulla mi consectetur nunc porta a diam laoreet amet. Sed massa orci sed ante pellentesque faucibus ac nulla. \n\n\n\n\nEfficiently my ocardinate market-driven innovation.\nIdea-sharing with back end products.\nBallpark value added activity to beta test.\nVoluptate at dolores ut dolor\nMassa orci sed ante pellentesque faucibus ac nulla.\nLibero consequat eget sed tristique arcu metus\n\n\n\n\n\n\n\nVestibulum velit ut aliquam sociis nullam. Volutpat et ullamcorper proin scelerisque vitae. Elementum molestie nibh sed magna diam feugiat sagittis egestas. Ut nunc a penatibus amet imperdiet sit sagittis in et. Sagittis nulla mi consectetur nunc porta a diam laoreet amet. Sed massa orci sed ante pellentesque faucibus ac nulla.
URL:https://jamstem.com/event/we-want-to-help/
LOCATION:Waterfront Hotel\, London\, Waterfront Hotel\, London
CATEGORIES:Upcoming Events
ATTACH;FMTTYPE=image/jpeg:https://jamstem.com/wp-content/uploads/2023/07/event-8.jpg
END:VEVENT
BEGIN:VEVENT
DTSTART;TZID=UTC:20260830T110000
DTEND;TZID=UTC:20260830T153000
DTSTAMP:20260425T104641
CREATED:20230719T074149Z
LAST-MODIFIED:20230719T074149Z
UID:2979-1788087600-1788103800@jamstem.com
SUMMARY:We Want To Help
DESCRIPTION:Dicta sunt explicabo. Nemo enim ipsam voluptatem quia voluptas sit aspernaturaut odit aut fugit\, sed quia consequuntur. Enim at duis turpis arcu. Odio amet quam quis eget molestie at et nam mauris. Vestibulum velit ut aliquam sociis nullam. Volutpat et ullamcorper proin scelerisque vitae. Elementum molestie nibh sed magna diam feugiat sagittis egestas. Ut nunc a penatibus amet imperdiet sit sagittis in et. Sagittis nulla mi consectetur nunc porta a diam laoreet amet. Sed massa orci sed ante pellentesque faucibus ac nulla. Lectus ullamcorper cursus pulvinar tortor. Scelerisque sed eget amet gravida lacus aliquet sed ipsum facilisis. Libero consequat eget sed tristique arcu metus duis duis. Tortor est varius egestas odio auctor dui sed. Netus non risus sollicitudin id. \nDetails about the Event\nOdio amet quam quis eget molestie at et nam mauris. Vestibulum velit ut aliquam sociis nullam. Volutpat et ullamcorper proin scelerisque vitae. Elementum molestie nibh sed magna diam feugiat sagittis egestas. Ut nunc a penatibus amet imperdiet sit sagittis in et. Sagittis nulla mi consectetur nunc porta a diam laoreet amet. Sed massa orci sed ante pellentesque faucibus ac nulla. \n\n\n\n\nEfficiently my ocardinate market-driven innovation.\nIdea-sharing with back end products.\nBallpark value added activity to beta test.\nVoluptate at dolores ut dolor\nMassa orci sed ante pellentesque faucibus ac nulla.\nLibero consequat eget sed tristique arcu metus\n\n\n\n\n\n\n\nVestibulum velit ut aliquam sociis nullam. Volutpat et ullamcorper proin scelerisque vitae. Elementum molestie nibh sed magna diam feugiat sagittis egestas. Ut nunc a penatibus amet imperdiet sit sagittis in et. Sagittis nulla mi consectetur nunc porta a diam laoreet amet. Sed massa orci sed ante pellentesque faucibus ac nulla.
URL:https://jamstem.com/event/we-want-to-help-2/
LOCATION:Waterfront Hotel\, London\, Waterfront Hotel\, London
CATEGORIES:Upcoming Events
ATTACH;FMTTYPE=image/jpeg:https://jamstem.com/wp-content/uploads/2023/07/event-8.jpg
END:VEVENT
END:VCALENDAR